BEGIN:VCALENDAR
VERSION:2.0
PRODID:-//NADI Kg Labi Tualak - ECPv6.15.20//NONSGML v1.0//EN
CALSCALE:GREGORIAN
METHOD:PUBLISH
X-WR-CALNAME:NADI Kg Labi Tualak
X-ORIGINAL-URL:https://kglabitualak.nadi.my
X-WR-CALDESC:Events for NADI Kg Labi Tualak
REFRESH-INTERVAL;VALUE=DURATION:PT1H
X-Robots-Tag:noindex
X-PUBLISHED-TTL:PT1H
BEGIN:VTIMEZONE
TZID:UTC
BEGIN:STANDARD
TZOFFSETFROM:+0000
TZOFFSETTO:+0000
TZNAME:UTC
DTSTART:20220101T000000
END:STANDARD
END:VTIMEZONE
BEGIN:VEVENT
DTSTART;TZID=UTC:20230708T080000
DTEND;TZID=UTC:20230708T170000
DTSTAMP:20260424T102819
CREATED:20230704T162947Z
LAST-MODIFIED:20230704T162947Z
UID:1697-1688803200-1688835600@kglabitualak.nadi.my
SUMMARY:Aktiviti Online ABCya
DESCRIPTION:
URL:https://kglabitualak.nadi.my/event/aktiviti-online-abcya/
LOCATION:PEDi Kg Labi Tualak\, PEDi Kg Labi Tualak
CATEGORIES:DEFAULT
END:VEVENT
BEGIN:VEVENT
DTSTART;TZID=UTC:20230708T080000
DTEND;TZID=UTC:20230708T170000
DTSTAMP:20260424T102819
CREATED:20230704T163010Z
LAST-MODIFIED:20230704T163010Z
UID:1698-1688803200-1688835600@kglabitualak.nadi.my
SUMMARY:E-tuesyen  online
DESCRIPTION:
URL:https://kglabitualak.nadi.my/event/e-tuesyen-online/
LOCATION:PEDi Kg Labi Tualak\, PEDi Kg Labi Tualak
CATEGORIES:DEFAULT
END:VEVENT
END:VCALENDAR