BEGIN:VCALENDAR
VERSION:2.0
PRODID:-//NADI Kg Labi Tualak - ECPv6.15.20//NONSGML v1.0//EN
CALSCALE:GREGORIAN
METHOD:PUBLISH
X-ORIGINAL-URL:https://kglabitualak.nadi.my
X-WR-CALDESC:Events for NADI Kg Labi Tualak
REFRESH-INTERVAL;VALUE=DURATION:PT1H
X-Robots-Tag:noindex
X-PUBLISHED-TTL:PT1H
BEGIN:VTIMEZONE
TZID:UTC
BEGIN:STANDARD
TZOFFSETFROM:+0000
TZOFFSETTO:+0000
TZNAME:UTC
DTSTART:20220101T000000
END:STANDARD
END:VTIMEZONE
BEGIN:VEVENT
DTSTART;TZID=UTC:20230726T080000
DTEND;TZID=UTC:20230726T170000
DTSTAMP:20260425T152801
CREATED:20230704T163807Z
LAST-MODIFIED:20230704T163807Z
UID:1710-1690358400-1690390800@kglabitualak.nadi.my
SUMMARY:Mindset Usahawan
DESCRIPTION:
URL:https://kglabitualak.nadi.my/event/mindset-usahawan-2/
LOCATION:PEDi Kg Labi Tualak\, PEDi Kg Labi Tualak
CATEGORIES:DEFAULT
END:VEVENT
END:VCALENDAR