BEGIN:VCALENDAR
VERSION:2.0
PRODID:-//NADI Kg Labi Tualak - ECPv6.15.13.1//NONSGML v1.0//EN
CALSCALE:GREGORIAN
METHOD:PUBLISH
X-WR-CALNAME:NADI Kg Labi Tualak
X-ORIGINAL-URL:https://kglabitualak.nadi.my
X-WR-CALDESC:Events for NADI Kg Labi Tualak
REFRESH-INTERVAL;VALUE=DURATION:PT1H
X-Robots-Tag:noindex
X-PUBLISHED-TTL:PT1H
BEGIN:VTIMEZONE
TZID:UTC
BEGIN:STANDARD
TZOFFSETFROM:+0000
TZOFFSETTO:+0000
TZNAME:UTC
DTSTART:20230101T000000
END:STANDARD
END:VTIMEZONE
BEGIN:VEVENT
DTSTART;TZID=UTC:20240221T080000
DTEND;TZID=UTC:20240221T170000
DTSTAMP:20260420T164839
CREATED:20240201T101930Z
LAST-MODIFIED:20240201T101930Z
UID:1790-1708502400-1708534800@kglabitualak.nadi.my
SUMMARY:Soft skill Critical Thinking
DESCRIPTION:
URL:https://kglabitualak.nadi.my/event/soft-skill-critical-thinking-2/
LOCATION:PEDi Kg Labi Tualak\, PEDi Kg Labi Tualak
CATEGORIES:DEFAULT
END:VEVENT
END:VCALENDAR