BEGIN:VCALENDAR
VERSION:2.0
PRODID:-//NADI Kg Labi Tualak - ECPv6.15.13.1//NONSGML v1.0//EN
CALSCALE:GREGORIAN
METHOD:PUBLISH
X-WR-CALNAME:NADI Kg Labi Tualak
X-ORIGINAL-URL:https://kglabitualak.nadi.my
X-WR-CALDESC:Events for NADI Kg Labi Tualak
REFRESH-INTERVAL;VALUE=DURATION:PT1H
X-Robots-Tag:noindex
X-PUBLISHED-TTL:PT1H
BEGIN:VTIMEZONE
TZID:UTC
BEGIN:STANDARD
TZOFFSETFROM:+0000
TZOFFSETTO:+0000
TZNAME:UTC
DTSTART:20240101T000000
END:STANDARD
END:VTIMEZONE
BEGIN:VEVENT
DTSTART;TZID=UTC:20251225T080000
DTEND;TZID=UTC:20251225T170000
DTSTAMP:20260419T213238
CREATED:20251212T035141Z
LAST-MODIFIED:20251212T035141Z
UID:3318-1766649600-1766682000@kglabitualak.nadi.my
SUMMARY:CHRISMAST
DESCRIPTION:
URL:https://kglabitualak.nadi.my/event/chrismast/
END:VEVENT
END:VCALENDAR