BEGIN:VCALENDAR
VERSION:2.0
PRODID:-//NADI Kg Labi Tualak - ECPv6.15.13.1//NONSGML v1.0//EN
CALSCALE:GREGORIAN
METHOD:PUBLISH
X-WR-CALNAME:NADI Kg Labi Tualak
X-ORIGINAL-URL:https://kglabitualak.nadi.my
X-WR-CALDESC:Events for NADI Kg Labi Tualak
REFRESH-INTERVAL;VALUE=DURATION:PT1H
X-Robots-Tag:noindex
X-PUBLISHED-TTL:PT1H
BEGIN:VTIMEZONE
TZID:UTC
BEGIN:STANDARD
TZOFFSETFROM:+0000
TZOFFSETTO:+0000
TZNAME:UTC
DTSTART:20250101T000000
END:STANDARD
END:VTIMEZONE
BEGIN:VEVENT
DTSTART;TZID=UTC:20260422T080000
DTEND;TZID=UTC:20260422T170000
DTSTAMP:20260422T035730
CREATED:20260416T040936Z
LAST-MODIFIED:20260416T040936Z
UID:3792-1776844800-1776877200@kglabitualak.nadi.my
SUMMARY:E-KELAS
DESCRIPTION:
URL:https://kglabitualak.nadi.my/event/e-kelas-2/
END:VEVENT
BEGIN:VEVENT
DTSTART;TZID=UTC:20260422T080000
DTEND;TZID=UTC:20260422T170000
DTSTAMP:20260422T035730
CREATED:20260416T041129Z
LAST-MODIFIED:20260416T041129Z
UID:3798-1776844800-1776877200@kglabitualak.nadi.my
SUMMARY:MAHIR MASAK
DESCRIPTION:
URL:https://kglabitualak.nadi.my/event/mahir-masak-37/
END:VEVENT
BEGIN:VEVENT
DTSTART;TZID=UTC:20260422T080000
DTEND;TZID=UTC:20260422T170000
DTSTAMP:20260422T035730
CREATED:20260418T062414Z
LAST-MODIFIED:20260418T062414Z
UID:3823-1776844800-1776877200@kglabitualak.nadi.my
SUMMARY:SHIRT LEARNING MAHIR JAHIT - POUCH BAG\, COASTER FABRIK HANDMADE
DESCRIPTION:
URL:https://kglabitualak.nadi.my/event/shirt-learning-mahir-jahit-pouch-bag-coaster-fabrik-handmade/
END:VEVENT
END:VCALENDAR