BEGIN:VCALENDAR
VERSION:2.0
PRODID:-//NADI Kg Labi Tualak - ECPv6.15.20//NONSGML v1.0//EN
CALSCALE:GREGORIAN
METHOD:PUBLISH
X-WR-CALNAME:NADI Kg Labi Tualak
X-ORIGINAL-URL:https://kglabitualak.nadi.my
X-WR-CALDESC:Events for NADI Kg Labi Tualak
REFRESH-INTERVAL;VALUE=DURATION:PT1H
X-Robots-Tag:noindex
X-PUBLISHED-TTL:PT1H
BEGIN:VTIMEZONE
TZID:UTC
BEGIN:STANDARD
TZOFFSETFROM:+0000
TZOFFSETTO:+0000
TZNAME:UTC
DTSTART:20220101T000000
END:STANDARD
END:VTIMEZONE
BEGIN:VEVENT
DTSTART;TZID=UTC:20230803T080000
DTEND;TZID=UTC:20230803T170000
DTSTAMP:20260423T221919
CREATED:20230803T113857Z
LAST-MODIFIED:20230803T113857Z
UID:1712-1691049600-1691082000@kglabitualak.nadi.my
SUMMARY:Kelas CANVA
DESCRIPTION:
URL:https://kglabitualak.nadi.my/event/kelas-canva/
LOCATION:PEDi Kg Labi Tualak\, PEDi Kg Labi Tualak
CATEGORIES:DEFAULT
END:VEVENT
BEGIN:VEVENT
DTSTART;TZID=UTC:20230804T080000
DTEND;TZID=UTC:20230804T170000
DTSTAMP:20260423T221919
CREATED:20230803T113925Z
LAST-MODIFIED:20230803T113925Z
UID:1713-1691136000-1691168400@kglabitualak.nadi.my
SUMMARY:Kursus Pengendali Makanan
DESCRIPTION:
URL:https://kglabitualak.nadi.my/event/kursus-pengendali-makanan-13/
LOCATION:PEDi Kg Labi Tualak\, PEDi Kg Labi Tualak
CATEGORIES:DEFAULT
END:VEVENT
BEGIN:VEVENT
DTSTART;TZID=UTC:20230805T080000
DTEND;TZID=UTC:20230805T170000
DTSTAMP:20260423T221919
CREATED:20230803T114006Z
LAST-MODIFIED:20230803T114006Z
UID:1714-1691222400-1691254800@kglabitualak.nadi.my
SUMMARY:Aktivti Pembelajaran - Kahot English
DESCRIPTION:
URL:https://kglabitualak.nadi.my/event/aktivti-pembelajaran-kahot-english/
LOCATION:PEDi Kg Labi Tualak\, PEDi Kg Labi Tualak
CATEGORIES:DEFAULT
END:VEVENT
BEGIN:VEVENT
DTSTART;TZID=UTC:20230806T080000
DTEND;TZID=UTC:20230806T170000
DTSTAMP:20260423T221919
CREATED:20230804T093550Z
LAST-MODIFIED:20230804T093550Z
UID:1722-1691308800-1691341200@kglabitualak.nadi.my
SUMMARY:Pembelajaran Online bersama PASTI
DESCRIPTION:
URL:https://kglabitualak.nadi.my/event/pembelajaran-online-bersama-pasti/
LOCATION:PEDi Kg Labi Tualak\, PEDi Kg Labi Tualak
CATEGORIES:DEFAULT
END:VEVENT
BEGIN:VEVENT
DTSTART;TZID=UTC:20230808T080000
DTEND;TZID=UTC:20230808T170000
DTSTAMP:20260423T221919
CREATED:20230803T114321Z
LAST-MODIFIED:20230803T114321Z
UID:1715-1691481600-1691514000@kglabitualak.nadi.my
SUMMARY:Keusahawanan - Bouquet Hadiah
DESCRIPTION:
URL:https://kglabitualak.nadi.my/event/keusahawanan-bouquet-hadiah/
LOCATION:PEDi Kg Labi Tualak\, PEDi Kg Labi Tualak
CATEGORIES:DEFAULT
END:VEVENT
BEGIN:VEVENT
DTSTART;TZID=UTC:20230809T080000
DTEND;TZID=UTC:20230809T170000
DTSTAMP:20260423T221919
CREATED:20230804T093631Z
LAST-MODIFIED:20230804T093631Z
UID:1724-1691568000-1691600400@kglabitualak.nadi.my
SUMMARY:Taklimat My Future Job Pedi Tong Pelu
DESCRIPTION:
URL:https://kglabitualak.nadi.my/event/taklimat-my-future-job-pedi-tong-pelu/
LOCATION:Pedi Tong Pelu\, Pedi Tong Pelu
CATEGORIES:DEFAULT
END:VEVENT
BEGIN:VEVENT
DTSTART;TZID=UTC:20230811T080000
DTEND;TZID=UTC:20230811T170000
DTSTAMP:20260423T221919
CREATED:20230803T114351Z
LAST-MODIFIED:20230803T114351Z
UID:1716-1691740800-1691773200@kglabitualak.nadi.my
SUMMARY:Kelas Komponen Komputer
DESCRIPTION:
URL:https://kglabitualak.nadi.my/event/kelas-komponen-komputer/
LOCATION:PEDi Kg Labi Tualak\, PEDi Kg Labi Tualak
CATEGORIES:DEFAULT
END:VEVENT
BEGIN:VEVENT
DTSTART;TZID=UTC:20230812T080000
DTEND;TZID=UTC:20230812T170000
DTSTAMP:20260423T221919
CREATED:20230803T114440Z
LAST-MODIFIED:20230803T114440Z
UID:1717-1691827200-1691859600@kglabitualak.nadi.my
SUMMARY:Kelas Editing Video Merdeka
DESCRIPTION:
URL:https://kglabitualak.nadi.my/event/kelas-editing-video-merdeka/
LOCATION:PEDi Kg Labi Tualak\, PEDi Kg Labi Tualak
CATEGORIES:DEFAULT
END:VEVENT
BEGIN:VEVENT
DTSTART;TZID=UTC:20230817T080000
DTEND;TZID=UTC:20230817T170000
DTSTAMP:20260423T221919
CREATED:20230803T114523Z
LAST-MODIFIED:20230803T114523Z
UID:1718-1692259200-1692291600@kglabitualak.nadi.my
SUMMARY:Kuiz Merdeka
DESCRIPTION:
URL:https://kglabitualak.nadi.my/event/kuiz-merdeka/
LOCATION:PEDi Kg Labi Tualak\, PEDi Kg Labi Tualak
CATEGORIES:DEFAULT
END:VEVENT
BEGIN:VEVENT
DTSTART;TZID=UTC:20230818T080000
DTEND;TZID=UTC:20230818T170000
DTSTAMP:20260423T221919
CREATED:20230803T114553Z
LAST-MODIFIED:20230803T114553Z
UID:1719-1692345600-1692378000@kglabitualak.nadi.my
SUMMARY:Kelas Editing Video Merdeka 2
DESCRIPTION:
URL:https://kglabitualak.nadi.my/event/kelas-editing-video-merdeka-2/
LOCATION:PEDi Kg Labi Tualak\, PEDi Kg Labi Tualak
CATEGORIES:DEFAULT
END:VEVENT
BEGIN:VEVENT
DTSTART;TZID=UTC:20230821T080000
DTEND;TZID=UTC:20230821T170000
DTSTAMP:20260423T221919
CREATED:20230804T093704Z
LAST-MODIFIED:20230804T093704Z
UID:1726-1692604800-1692637200@kglabitualak.nadi.my
SUMMARY:Klik Dengan Bijak
DESCRIPTION:
URL:https://kglabitualak.nadi.my/event/klik-dengan-bijak-5/
LOCATION:SK Nami\, SK Nami
CATEGORIES:DEFAULT
END:VEVENT
BEGIN:VEVENT
DTSTART;TZID=UTC:20230825T080000
DTEND;TZID=UTC:20230825T170000
DTSTAMP:20260423T221919
CREATED:20230803T114625Z
LAST-MODIFIED:20230803T114625Z
UID:1720-1692950400-1692982800@kglabitualak.nadi.my
SUMMARY:Pertandingan Video Merdeka
DESCRIPTION:
URL:https://kglabitualak.nadi.my/event/pertandingan-video-merdeka/
LOCATION:PEDi Kg Labi Tualak\, PEDi Kg Labi Tualak
CATEGORIES:DEFAULT
END:VEVENT
BEGIN:VEVENT
DTSTART;TZID=UTC:20230826T080000
DTEND;TZID=UTC:20230826T170000
DTSTAMP:20260423T221919
CREATED:20230803T114645Z
LAST-MODIFIED:20230803T114645Z
UID:1721-1693036800-1693069200@kglabitualak.nadi.my
SUMMARY:Tayangan Video Merdeka
DESCRIPTION:
URL:https://kglabitualak.nadi.my/event/tayangan-video-merdeka/
LOCATION:PEDi Kg Labi Tualak\, PEDi Kg Labi Tualak
CATEGORIES:DEFAULT
END:VEVENT
BEGIN:VEVENT
DTSTART;TZID=UTC:20230831T080000
DTEND;TZID=UTC:20230831T170000
DTSTAMP:20260423T221919
CREATED:20230827T115930Z
LAST-MODIFIED:20230827T115930Z
UID:1727-1693468800-1693501200@kglabitualak.nadi.my
SUMMARY:Hari Merdeka
DESCRIPTION:
URL:https://kglabitualak.nadi.my/event/hari-merdeka-2/
LOCATION:PEDi Kg Labi Tualak\, PEDi Kg Labi Tualak
CATEGORIES:DEFAULT
END:VEVENT
END:VCALENDAR