BEGIN:VCALENDAR
VERSION:2.0
PRODID:-//NADI Kg Labi Tualak - ECPv6.15.13.1//NONSGML v1.0//EN
CALSCALE:GREGORIAN
METHOD:PUBLISH
X-WR-CALNAME:NADI Kg Labi Tualak
X-ORIGINAL-URL:https://kglabitualak.nadi.my
X-WR-CALDESC:Events for NADI Kg Labi Tualak
REFRESH-INTERVAL;VALUE=DURATION:PT1H
X-Robots-Tag:noindex
X-PUBLISHED-TTL:PT1H
BEGIN:VTIMEZONE
TZID:UTC
BEGIN:STANDARD
TZOFFSETFROM:+0000
TZOFFSETTO:+0000
TZNAME:UTC
DTSTART:20220101T000000
END:STANDARD
END:VTIMEZONE
BEGIN:VEVENT
DTSTART;TZID=UTC:20231005T080000
DTEND;TZID=UTC:20231005T170000
DTSTAMP:20260421T190302
CREATED:20231001T110338Z
LAST-MODIFIED:20231001T110338Z
UID:1739-1696492800-1696525200@kglabitualak.nadi.my
SUMMARY:Bengkel Adobe Photoshop
DESCRIPTION:
URL:https://kglabitualak.nadi.my/event/bengkel-adobe-photoshop/
LOCATION:PEDi Kg Labi Tualak\, PEDi Kg Labi Tualak
CATEGORIES:DEFAULT
END:VEVENT
BEGIN:VEVENT
DTSTART;TZID=UTC:20231007T080000
DTEND;TZID=UTC:20231007T170000
DTSTAMP:20260421T190302
CREATED:20231001T110415Z
LAST-MODIFIED:20231001T110415Z
UID:1740-1696665600-1696698000@kglabitualak.nadi.my
SUMMARY:Bengkel ICT : Emel
DESCRIPTION:
URL:https://kglabitualak.nadi.my/event/bengkel-ict-emel/
LOCATION:PEDi Kg Labi Tualak\, PEDi Kg Labi Tualak
CATEGORIES:DEFAULT
END:VEVENT
BEGIN:VEVENT
DTSTART;TZID=UTC:20231009T080000
DTEND;TZID=UTC:20231009T170000
DTSTAMP:20260421T190302
CREATED:20231001T110435Z
LAST-MODIFIED:20231001T110435Z
UID:1741-1696838400-1696870800@kglabitualak.nadi.my
SUMMARY:Bengkel Resume
DESCRIPTION:
URL:https://kglabitualak.nadi.my/event/bengkel-resume/
LOCATION:PEDi Kg Labi Tualak\, PEDi Kg Labi Tualak
CATEGORIES:DEFAULT
END:VEVENT
BEGIN:VEVENT
DTSTART;TZID=UTC:20231012T080000
DTEND;TZID=UTC:20231012T170000
DTSTAMP:20260421T190302
CREATED:20231001T110510Z
LAST-MODIFIED:20231001T110510Z
UID:1742-1697097600-1697130000@kglabitualak.nadi.my
SUMMARY:E-pembelajaran: ABC ya
DESCRIPTION:
URL:https://kglabitualak.nadi.my/event/e-pembelajaran-abc-ya/
LOCATION:PEDi Kg Labi Tualak\, PEDi Kg Labi Tualak
CATEGORIES:DEFAULT
END:VEVENT
BEGIN:VEVENT
DTSTART;TZID=UTC:20231013T080000
DTEND;TZID=UTC:20231013T170000
DTSTAMP:20260421T190302
CREATED:20231001T110536Z
LAST-MODIFIED:20231001T110536Z
UID:1743-1697184000-1697216400@kglabitualak.nadi.my
SUMMARY:Typing Test
DESCRIPTION:
URL:https://kglabitualak.nadi.my/event/typing-test/
LOCATION:PEDi Kg Labi Tualak\, PEDi Kg Labi Tualak
CATEGORIES:DEFAULT
END:VEVENT
BEGIN:VEVENT
DTSTART;TZID=UTC:20231017T080000
DTEND;TZID=UTC:20231017T170000
DTSTAMP:20260421T190302
CREATED:20231001T110604Z
LAST-MODIFIED:20231001T110604Z
UID:1744-1697529600-1697562000@kglabitualak.nadi.my
SUMMARY:Kelas Keusahawanan
DESCRIPTION:
URL:https://kglabitualak.nadi.my/event/kelas-keusahawanan/
LOCATION:PEDi Kg Labi Tualak\, PEDi Kg Labi Tualak
CATEGORIES:DEFAULT
END:VEVENT
BEGIN:VEVENT
DTSTART;TZID=UTC:20231018T080000
DTEND;TZID=UTC:20231018T170000
DTSTAMP:20260421T190302
CREATED:20231001T110624Z
LAST-MODIFIED:20231001T110624Z
UID:1745-1697616000-1697648400@kglabitualak.nadi.my
SUMMARY:Kaunter KWSP
DESCRIPTION:
URL:https://kglabitualak.nadi.my/event/kaunter-kwsp-3/
LOCATION:PEDi Kg Labi Tualak\, PEDi Kg Labi Tualak
CATEGORIES:DEFAULT
END:VEVENT
BEGIN:VEVENT
DTSTART;TZID=UTC:20231021T080000
DTEND;TZID=UTC:20231021T170000
DTSTAMP:20260421T190302
CREATED:20231001T110650Z
LAST-MODIFIED:20231001T110650Z
UID:1746-1697875200-1697907600@kglabitualak.nadi.my
SUMMARY:Bengkel Edit Video
DESCRIPTION:
URL:https://kglabitualak.nadi.my/event/bengkel-edit-video/
LOCATION:PEDi Kg Labi Tualak\, PEDi Kg Labi Tualak
CATEGORIES:DEFAULT
END:VEVENT
BEGIN:VEVENT
DTSTART;TZID=UTC:20231026T080000
DTEND;TZID=UTC:20231026T170000
DTSTAMP:20260421T190302
CREATED:20231001T110812Z
LAST-MODIFIED:20231001T110812Z
UID:1747-1698307200-1698339600@kglabitualak.nadi.my
SUMMARY:Kaunter PTPTN
DESCRIPTION:
URL:https://kglabitualak.nadi.my/event/kaunter-ptptn/
LOCATION:PEDi Kg Labi Tualak\, PEDi Kg Labi Tualak
CATEGORIES:DEFAULT
END:VEVENT
BEGIN:VEVENT
DTSTART;TZID=UTC:20231028T080000
DTEND;TZID=UTC:20231028T170000
DTSTAMP:20260421T190302
CREATED:20231001T110843Z
LAST-MODIFIED:20231001T110843Z
UID:1748-1698480000-1698512400@kglabitualak.nadi.my
SUMMARY:Kelas Microsoft Word
DESCRIPTION:
URL:https://kglabitualak.nadi.my/event/kelas-microsoft-word-7/
LOCATION:PEDi Kg Labi Tualak\, PEDi Kg Labi Tualak
CATEGORIES:DEFAULT
END:VEVENT
END:VCALENDAR