BEGIN:VCALENDAR
VERSION:2.0
PRODID:-//NADI Kg Labi Tualak - ECPv6.15.13.1//NONSGML v1.0//EN
CALSCALE:GREGORIAN
METHOD:PUBLISH
X-WR-CALNAME:NADI Kg Labi Tualak
X-ORIGINAL-URL:https://kglabitualak.nadi.my
X-WR-CALDESC:Events for NADI Kg Labi Tualak
REFRESH-INTERVAL;VALUE=DURATION:PT1H
X-Robots-Tag:noindex
X-PUBLISHED-TTL:PT1H
BEGIN:VTIMEZONE
TZID:UTC
BEGIN:STANDARD
TZOFFSETFROM:+0000
TZOFFSETTO:+0000
TZNAME:UTC
DTSTART:20230101T000000
END:STANDARD
END:VTIMEZONE
BEGIN:VEVENT
DTSTART;TZID=UTC:20240301T080000
DTEND;TZID=UTC:20240301T170000
DTSTAMP:20260422T085439
CREATED:20240301T102401Z
LAST-MODIFIED:20240301T102401Z
UID:1796-1709280000-1709312400@kglabitualak.nadi.my
SUMMARY:ICT Microsoft Word
DESCRIPTION:
URL:https://kglabitualak.nadi.my/event/ict-microsoft-word/
LOCATION:PEDi Kg Labi Tualak\, PEDi Kg Labi Tualak
CATEGORIES:DEFAULT
END:VEVENT
BEGIN:VEVENT
DTSTART;TZID=UTC:20240302T080000
DTEND;TZID=UTC:20240302T170000
DTSTAMP:20260422T085439
CREATED:20240301T102438Z
LAST-MODIFIED:20240301T102438Z
UID:1797-1709366400-1709398800@kglabitualak.nadi.my
SUMMARY:Soft Skill Kemahiran Komunikasi
DESCRIPTION:
URL:https://kglabitualak.nadi.my/event/soft-skill-kemahiran-komunikasi/
LOCATION:PEDi Kg Labi Tualak\, PEDi Kg Labi Tualak
CATEGORIES:DEFAULT
END:VEVENT
BEGIN:VEVENT
DTSTART;TZID=UTC:20240305T080000
DTEND;TZID=UTC:20240305T170000
DTSTAMP:20260422T085439
CREATED:20240301T102614Z
LAST-MODIFIED:20240301T102614Z
UID:1798-1709625600-1709658000@kglabitualak.nadi.my
SUMMARY:Program Jalinan Kasih Bersama Raja Muda Kedah
DESCRIPTION:
URL:https://kglabitualak.nadi.my/event/program-jalinan-kasih-bersama-raja-muda-kedah/
LOCATION:PEDi Kg Labi Tualak\, PEDi Kg Labi Tualak
CATEGORIES:DEFAULT
END:VEVENT
BEGIN:VEVENT
DTSTART;TZID=UTC:20240307T080000
DTEND;TZID=UTC:20240307T170000
DTSTAMP:20260422T085439
CREATED:20240301T102641Z
LAST-MODIFIED:20240301T102641Z
UID:1799-1709798400-1709830800@kglabitualak.nadi.my
SUMMARY:STEM IOT Popscle fan
DESCRIPTION:
URL:https://kglabitualak.nadi.my/event/stem-iot-popscle-fan/
LOCATION:PEDi Kg Labi Tualak\, PEDi Kg Labi Tualak
CATEGORIES:DEFAULT
END:VEVENT
BEGIN:VEVENT
DTSTART;TZID=UTC:20240308T080000
DTEND;TZID=UTC:20240308T170000
DTSTAMP:20260422T085439
CREATED:20240301T102809Z
LAST-MODIFIED:20240301T102809Z
UID:1800-1709884800-1709917200@kglabitualak.nadi.my
SUMMARY:E-Leraning Postcard Ramadan
DESCRIPTION:
URL:https://kglabitualak.nadi.my/event/e-leraning-postcard-ramadan/
LOCATION:PEDi Kg Labi Tualak\, PEDi Kg Labi Tualak
CATEGORIES:DEFAULT
END:VEVENT
BEGIN:VEVENT
DTSTART;TZID=UTC:20240310T080000
DTEND;TZID=UTC:20240310T170000
DTSTAMP:20260422T085439
CREATED:20240301T102906Z
LAST-MODIFIED:20240301T102906Z
UID:1801-1710057600-1710090000@kglabitualak.nadi.my
SUMMARY:E-tusyen Bahasa Melayu
DESCRIPTION:
URL:https://kglabitualak.nadi.my/event/e-tusyen-bahasa-melayu/
LOCATION:PEDi Kg Labi Tualak\, PEDi Kg Labi Tualak
CATEGORIES:DEFAULT
END:VEVENT
BEGIN:VEVENT
DTSTART;TZID=UTC:20240311T080000
DTEND;TZID=UTC:20240311T170000
DTSTAMP:20260422T085439
CREATED:20240301T103320Z
LAST-MODIFIED:20240301T103320Z
UID:1802-1710144000-1710176400@kglabitualak.nadi.my
SUMMARY:Kelas Keusahawanan -Kertas Kerja
DESCRIPTION:
URL:https://kglabitualak.nadi.my/event/kelas-keusahawanan-kertas-kerja/
LOCATION:PEDi Kg Labi Tualak\, PEDi Kg Labi Tualak
CATEGORIES:DEFAULT
END:VEVENT
BEGIN:VEVENT
DTSTART;TZID=UTC:20240312T080000
DTEND;TZID=UTC:20240312T170000
DTSTAMP:20260422T085439
CREATED:20240301T103413Z
LAST-MODIFIED:20240301T103413Z
UID:1803-1710230400-1710262800@kglabitualak.nadi.my
SUMMARY:Awal Ramadan
DESCRIPTION:
URL:https://kglabitualak.nadi.my/event/awal-ramadan/
LOCATION:PEDi Kg Labi Tualak\, PEDi Kg Labi Tualak
CATEGORIES:DEFAULT
END:VEVENT
BEGIN:VEVENT
DTSTART;TZID=UTC:20240314T080000
DTEND;TZID=UTC:20240314T170000
DTSTAMP:20260422T085439
CREATED:20240301T103500Z
LAST-MODIFIED:20240301T103500Z
UID:1804-1710403200-1710435600@kglabitualak.nadi.my
SUMMARY:Kelas Keusahawanan Affiliate Shopee
DESCRIPTION:
URL:https://kglabitualak.nadi.my/event/kelas-keusahawanan-affiliate-shopee/
LOCATION:PEDi Kg Labi Tualak\, PEDi Kg Labi Tualak
CATEGORIES:DEFAULT
END:VEVENT
BEGIN:VEVENT
DTSTART;TZID=UTC:20240315T080000
DTEND;TZID=UTC:20240315T170000
DTSTAMP:20260422T085439
CREATED:20240301T103555Z
LAST-MODIFIED:20240301T103555Z
UID:1805-1710489600-1710522000@kglabitualak.nadi.my
SUMMARY:ICT Microsoft Excel
DESCRIPTION:
URL:https://kglabitualak.nadi.my/event/ict-microsoft-excel/
LOCATION:PEDi Kg Labi Tualak\, PEDi Kg Labi Tualak
CATEGORIES:DEFAULT
END:VEVENT
BEGIN:VEVENT
DTSTART;TZID=UTC:20240316T080000
DTEND;TZID=UTC:20240316T170000
DTSTAMP:20260422T085439
CREATED:20240301T103632Z
LAST-MODIFIED:20240301T103632Z
UID:1806-1710576000-1710608400@kglabitualak.nadi.my
SUMMARY:STEM IOT Engineering.com
DESCRIPTION:
URL:https://kglabitualak.nadi.my/event/stem-iot-engineering-com-3/
LOCATION:PEDi Kg Labi Tualak\, PEDi Kg Labi Tualak
CATEGORIES:DEFAULT
END:VEVENT
BEGIN:VEVENT
DTSTART;TZID=UTC:20240321T080000
DTEND;TZID=UTC:20240321T170000
DTSTAMP:20260422T085439
CREATED:20240301T103730Z
LAST-MODIFIED:20240301T103730Z
UID:1807-1711008000-1711040400@kglabitualak.nadi.my
SUMMARY:STEM IOT Electric Bump
DESCRIPTION:
URL:https://kglabitualak.nadi.my/event/stem-iot-electric-bump/
LOCATION:PEDi Kg Labi Tualak\, PEDi Kg Labi Tualak
CATEGORIES:DEFAULT
END:VEVENT
BEGIN:VEVENT
DTSTART;TZID=UTC:20240322T080000
DTEND;TZID=UTC:20240322T170000
DTSTAMP:20260422T085439
CREATED:20240301T103812Z
LAST-MODIFIED:20240301T103812Z
UID:1808-1711094400-1711126800@kglabitualak.nadi.my
SUMMARY:Microsoft Power Point
DESCRIPTION:
URL:https://kglabitualak.nadi.my/event/microsoft-power-point/
LOCATION:PEDi Kg Labi Tualak\, PEDi Kg Labi Tualak
CATEGORIES:DEFAULT
END:VEVENT
BEGIN:VEVENT
DTSTART;TZID=UTC:20240323T080000
DTEND;TZID=UTC:20240323T170000
DTSTAMP:20260422T085439
CREATED:20240301T103934Z
LAST-MODIFIED:20240301T103934Z
UID:1809-1711180800-1711213200@kglabitualak.nadi.my
SUMMARY:Micorsoft Word Jadual Kelas
DESCRIPTION:
URL:https://kglabitualak.nadi.my/event/micorsoft-word-jadual-kelas/
LOCATION:PEDi Kg Labi Tualak\, PEDi Kg Labi Tualak
CATEGORIES:DEFAULT
END:VEVENT
BEGIN:VEVENT
DTSTART;TZID=UTC:20240327T080000
DTEND;TZID=UTC:20240327T170000
DTSTAMP:20260422T085439
CREATED:20240301T104014Z
LAST-MODIFIED:20240301T104014Z
UID:1810-1711526400-1711558800@kglabitualak.nadi.my
SUMMARY:Kelas Keusahawanan Teknik Marketing
DESCRIPTION:
URL:https://kglabitualak.nadi.my/event/kelas-keusahawanan-teknik-marketing/
LOCATION:PEDi Kg Labi Tualak\, PEDi Kg Labi Tualak
CATEGORIES:DEFAULT
END:VEVENT
BEGIN:VEVENT
DTSTART;TZID=UTC:20240328T080000
DTEND;TZID=UTC:20240328T170000
DTSTAMP:20260422T085439
CREATED:20240301T104054Z
LAST-MODIFIED:20240301T104054Z
UID:1811-1711612800-1711645200@kglabitualak.nadi.my
SUMMARY:Elerning Quiz Ict
DESCRIPTION:
URL:https://kglabitualak.nadi.my/event/elerning-quiz-ict/
LOCATION:PEDi Kg Labi Tualak\, PEDi Kg Labi Tualak
CATEGORIES:DEFAULT
END:VEVENT
BEGIN:VEVENT
DTSTART;TZID=UTC:20240330T080000
DTEND;TZID=UTC:20240330T170000
DTSTAMP:20260422T085439
CREATED:20240301T104143Z
LAST-MODIFIED:20240301T104143Z
UID:1812-1711785600-1711818000@kglabitualak.nadi.my
SUMMARY:Soft Skill Penguasaan Bahasa Jepun
DESCRIPTION:
URL:https://kglabitualak.nadi.my/event/soft-skill-penguasaan-bahasa-jepun/
LOCATION:PEDi Kg Labi Tualak\, PEDi Kg Labi Tualak
CATEGORIES:DEFAULT
END:VEVENT
END:VCALENDAR